BEGIN:VCALENDAR
VERSION:2.0
PRODID:-//Shri Shivdurga Samvardhan - ECPv6.15.11//NONSGML v1.0//EN
CALSCALE:GREGORIAN
METHOD:PUBLISH
X-ORIGINAL-URL:https://shivdurg.org
X-WR-CALDESC:Events for Shri Shivdurga Samvardhan
REFRESH-INTERVAL;VALUE=DURATION:PT1H
X-Robots-Tag:noindex
X-PUBLISHED-TTL:PT1H
BEGIN:VTIMEZONE
TZID:UTC
BEGIN:STANDARD
TZOFFSETFROM:+0000
TZOFFSETTO:+0000
TZNAME:UTC
DTSTART:20210101T000000
END:STANDARD
END:VTIMEZONE
BEGIN:VEVENT
DTSTART;TZID=UTC:20221110T100000
DTEND;TZID=UTC:20230102T170000
DTSTAMP:20260423T180104
CREATED:20180125T160429Z
LAST-MODIFIED:20230603T112918Z
UID:240-1668074400-1672678800@shivdurg.org
SUMMARY:श्री धर्मवीरगड दिपोत्सव
DESCRIPTION:प्रत्येक वर्षी आपण धर्मवीरगड ला दीपोत्सव साजरा करतो. यात लोकांकडून योगदान म्हणून पणत्या घेतल्या जातात. ज्यांना पणत्या देणे शक्य नाही ते पणत्यांच्या किंमती इतके आर्थिक योगदान देतात. पुण्याहून संस्थेचे कार्यकर्ते आणि इतर इच्छुक दुर्ग सेवक मिळून पणत्या धर्मवीरगड ला पोचवतात. \nगेल्या वर्षी तब्बल तीन हजार पणत्या गडावर एकाच वेळी लावल्याने गड अक्षरशः उजळून निघाला होता. संस्थेचे श्री मुकेश पवार आणि त्यांचे मित्र यात पुढाकार घेऊन प्रत्येक वर्षी हा अद्वितीय उपक्रम पार पाडतात \n 
URL:https://shivdurg.org/event/%e0%a4%b6%e0%a5%8d%e0%a4%b0%e0%a5%80-%e0%a4%a7%e0%a4%b0%e0%a5%8d%e0%a4%ae%e0%a4%b5%e0%a5%80%e0%a4%b0%e0%a4%97%e0%a4%a1-%e0%a4%a6%e0%a4%bf%e0%a4%aa%e0%a5%8b%e0%a4%a4%e0%a5%8d%e0%a4%b8%e0%a4%b5/
LOCATION:Ks & Qs Park\, 85 Vincent Square\, Westminster\, London\, United Kingdom (UK)\, SW1P 2PF
CATEGORIES:Shows
ATTACH;FMTTYPE=image/jpeg:https://shivdurg.org/wp-content/uploads/2023/06/our-work-20.jpg
ORGANIZER;CN="Mark Stevens":MAILTO:info@example.com
END:VEVENT
END:VCALENDAR